BEGIN:VCALENDAR
VERSION:2.0
PRODID:-//Heimatverein Heltersberg - ECPv6.15.20//NONSGML v1.0//EN
CALSCALE:GREGORIAN
METHOD:PUBLISH
X-ORIGINAL-URL:https://pwv-heltersberg.de
X-WR-CALDESC:Veranstaltungen für Heimatverein Heltersberg
REFRESH-INTERVAL;VALUE=DURATION:PT1H
X-Robots-Tag:noindex
X-PUBLISHED-TTL:PT1H
BEGIN:VTIMEZONE
TZID:Europe/Berlin
BEGIN:DAYLIGHT
TZOFFSETFROM:+0100
TZOFFSETTO:+0200
TZNAME:CEST
DTSTART:20230326T010000
END:DAYLIGHT
BEGIN:STANDARD
TZOFFSETFROM:+0200
TZOFFSETTO:+0100
TZNAME:CET
DTSTART:20231029T010000
END:STANDARD
BEGIN:DAYLIGHT
TZOFFSETFROM:+0100
TZOFFSETTO:+0200
TZNAME:CEST
DTSTART:20240331T010000
END:DAYLIGHT
BEGIN:STANDARD
TZOFFSETFROM:+0200
TZOFFSETTO:+0100
TZNAME:CET
DTSTART:20241027T010000
END:STANDARD
BEGIN:DAYLIGHT
TZOFFSETFROM:+0100
TZOFFSETTO:+0200
TZNAME:CEST
DTSTART:20250330T010000
END:DAYLIGHT
BEGIN:STANDARD
TZOFFSETFROM:+0200
TZOFFSETTO:+0100
TZNAME:CET
DTSTART:20251026T010000
END:STANDARD
END:VTIMEZONE
BEGIN:VEVENT
DTSTART;VALUE=DATE:20241012
DTEND;VALUE=DATE:20241013
DTSTAMP:20260419T164100
CREATED:20240101T160358Z
LAST-MODIFIED:20240101T160358Z
UID:1635-1728691200-1728777599@pwv-heltersberg.de
SUMMARY:Frauenwanderung
DESCRIPTION:Unsere Wanderfreundin Angelika wird das Ziel noch bekanntgeben
URL:https://pwv-heltersberg.de/event/frauenwanderung-2/
LOCATION:Vereinsheim\, Am Zimmerkopf\, 67716 Heltersberg\, Rheinland-Pfalz\, 67716\, Germany
CATEGORIES:Wanderungen
END:VEVENT
BEGIN:VEVENT
DTSTART;VALUE=DATE:20241020
DTEND;VALUE=DATE:20241021
DTSTAMP:20260419T164100
CREATED:20240101T160502Z
LAST-MODIFIED:20240101T160502Z
UID:1637-1729382400-1729468799@pwv-heltersberg.de
SUMMARY:Bruzzeltour zur Streitwiese
DESCRIPTION:
URL:https://pwv-heltersberg.de/event/bruzzeltour-zur-streitwiese/
LOCATION:Vereinsheim\, Am Zimmerkopf\, 67716 Heltersberg\, Rheinland-Pfalz\, 67716\, Germany
END:VEVENT
END:VCALENDAR