BEGIN:VCALENDAR
VERSION:2.0
PRODID:-//Heimatverein Heltersberg - ECPv6.15.20//NONSGML v1.0//EN
CALSCALE:GREGORIAN
METHOD:PUBLISH
X-ORIGINAL-URL:https://pwv-heltersberg.de
X-WR-CALDESC:Veranstaltungen für Heimatverein Heltersberg
REFRESH-INTERVAL;VALUE=DURATION:PT1H
X-Robots-Tag:noindex
X-PUBLISHED-TTL:PT1H
BEGIN:VTIMEZONE
TZID:Europe/Berlin
BEGIN:DAYLIGHT
TZOFFSETFROM:+0100
TZOFFSETTO:+0200
TZNAME:CEST
DTSTART:20230326T010000
END:DAYLIGHT
BEGIN:STANDARD
TZOFFSETFROM:+0200
TZOFFSETTO:+0100
TZNAME:CET
DTSTART:20231029T010000
END:STANDARD
BEGIN:DAYLIGHT
TZOFFSETFROM:+0100
TZOFFSETTO:+0200
TZNAME:CEST
DTSTART:20240331T010000
END:DAYLIGHT
BEGIN:STANDARD
TZOFFSETFROM:+0200
TZOFFSETTO:+0100
TZNAME:CET
DTSTART:20241027T010000
END:STANDARD
BEGIN:DAYLIGHT
TZOFFSETFROM:+0100
TZOFFSETTO:+0200
TZNAME:CEST
DTSTART:20250330T010000
END:DAYLIGHT
BEGIN:STANDARD
TZOFFSETFROM:+0200
TZOFFSETTO:+0100
TZNAME:CET
DTSTART:20251026T010000
END:STANDARD
END:VTIMEZONE
BEGIN:VEVENT
DTSTART;TZID=Europe/Berlin:20240901T060000
DTEND;TZID=Europe/Berlin:20240906T210000
DTSTAMP:20260419T153441
CREATED:20240101T155351Z
LAST-MODIFIED:20240101T155351Z
UID:1627-1725170400-1725656400@pwv-heltersberg.de
SUMMARY:Bustour nach Kirchberg/Tirol
DESCRIPTION:Unser diesjähriger Ausflug führt uns nach Kirchberg/Tirol. \nNäheres wird noch bekanntgegeben
URL:https://pwv-heltersberg.de/event/bustour-nach-kirchberg-tirol/
LOCATION:Rheinland-Pfalz
CATEGORIES:Feiern
END:VEVENT
BEGIN:VEVENT
DTSTART;VALUE=DATE:20240915
DTEND;VALUE=DATE:20240916
DTSTAMP:20260419T153441
CREATED:20240101T160149Z
LAST-MODIFIED:20240101T160149Z
UID:1631-1726358400-1726444799@pwv-heltersberg.de
SUMMARY:Felsen und Burgenweg Schönau
DESCRIPTION:
URL:https://pwv-heltersberg.de/event/felsen-und-burgenweg-schoenau/
LOCATION:Vereinsheim\, Am Zimmerkopf\, 67716 Heltersberg\, Rheinland-Pfalz\, 67716\, Germany
END:VEVENT
BEGIN:VEVENT
DTSTART;VALUE=DATE:20240928
DTEND;VALUE=DATE:20240929
DTSTAMP:20260419T153441
CREATED:20240101T160239Z
LAST-MODIFIED:20240101T160239Z
UID:1633-1727481600-1727567999@pwv-heltersberg.de
SUMMARY:Rodalber Felsenmarathon
DESCRIPTION:
URL:https://pwv-heltersberg.de/event/rodalber-felsenmarathon/
LOCATION:Rheinland-Pfalz
CATEGORIES:Wanderungen
END:VEVENT
END:VCALENDAR