BEGIN:VCALENDAR
VERSION:2.0
PRODID:-//Heimatverein Heltersberg - ECPv6.15.20//NONSGML v1.0//EN
CALSCALE:GREGORIAN
METHOD:PUBLISH
X-WR-CALNAME:Heimatverein Heltersberg
X-ORIGINAL-URL:https://pwv-heltersberg.de
X-WR-CALDESC:Veranstaltungen für Heimatverein Heltersberg
REFRESH-INTERVAL;VALUE=DURATION:PT1H
X-Robots-Tag:noindex
X-PUBLISHED-TTL:PT1H
BEGIN:VTIMEZONE
TZID:Europe/Berlin
BEGIN:DAYLIGHT
TZOFFSETFROM:+0100
TZOFFSETTO:+0200
TZNAME:CEST
DTSTART:20250330T010000
END:DAYLIGHT
BEGIN:STANDARD
TZOFFSETFROM:+0200
TZOFFSETTO:+0100
TZNAME:CET
DTSTART:20251026T010000
END:STANDARD
BEGIN:DAYLIGHT
TZOFFSETFROM:+0100
TZOFFSETTO:+0200
TZNAME:CEST
DTSTART:20260329T010000
END:DAYLIGHT
BEGIN:STANDARD
TZOFFSETFROM:+0200
TZOFFSETTO:+0100
TZNAME:CET
DTSTART:20261025T010000
END:STANDARD
BEGIN:DAYLIGHT
TZOFFSETFROM:+0100
TZOFFSETTO:+0200
TZNAME:CEST
DTSTART:20270328T010000
END:DAYLIGHT
BEGIN:STANDARD
TZOFFSETFROM:+0200
TZOFFSETTO:+0100
TZNAME:CET
DTSTART:20271031T010000
END:STANDARD
END:VTIMEZONE
BEGIN:VEVENT
DTSTART;TZID=Europe/Berlin:20260801T060000
DTEND;TZID=Europe/Berlin:20260808T190000
DTSTAMP:20260419T212038
CREATED:20251206T082727Z
LAST-MODIFIED:20251206T082727Z
UID:1942-1785564000-1786215600@pwv-heltersberg.de
SUMMARY:Männertour
DESCRIPTION:Bootstour in die Burgund
URL:https://pwv-heltersberg.de/event/maennertour/
LOCATION:Vereinsheim\, Am Zimmerkopf\, 67716 Heltersberg\, Rheinland-Pfalz\, 67716\, Germany
CATEGORIES:Wanderungen
END:VEVENT
END:VCALENDAR